BEGIN:VCALENDAR
VERSION:2.0
PRODID:concerti//https://www.concerti.de
CALSCALE:GREGORIAN
BEGIN:VTIMEZONE
TZID:Europe/Berlin
X-LIC-LOCATION:Europe/Berlin
BEGIN:DAYLIGHT
TZOFFSETFROM:+0100
TZOFFSETTO:+0200
TZNAME:CEST
DTSTART:19700329T020000
RRULE:FREQ=YEARLY;BYMONTH=3;BYDAY=-1SU
END:DAYLIGHT
BEGIN:STANDARD
TZOFFSETFROM:+0200
TZOFFSETTO:+0100
TZNAME:CET
DTSTART:19701025T030000
RRULE:FREQ=YEARLY;BYMONTH=10;BYDAY=-1SU
END:STANDARD
END:VTIMEZONE
BEGIN:VEVENT
UID:2bc620d4252748430592d8acd8db5a33
SUMMARY:From the Moon to the Fish - Carinthischer Sommer
URL:https://www.concerti.de/termine/from-the-moon-to-the-fish-836299/
DTSTART;TZID=Europe/Berlin:20260729T193000
DTEND;TZID=Europe/Berlin:20260729T213000
DESCRIPTION:Interpreten: Hathor Consort\, Romina Lischka (Viola da Gamba & Leitung) \nhttps://www.concerti.de/termine/from-the-moon-to-the-fish-836299/
LOCATION:Alban Berg Konzertsaal\, Ossiach
END:VEVENT
END:VCALENDAR