BEGIN:VCALENDAR
VERSION:2.0
PRODID:concerti//https://www.concerti.de
CALSCALE:GREGORIAN
BEGIN:VTIMEZONE
TZID:Europe/Berlin
X-LIC-LOCATION:Europe/Berlin
BEGIN:DAYLIGHT
TZOFFSETFROM:+0100
TZOFFSETTO:+0200
TZNAME:CEST
DTSTART:19700329T020000
RRULE:FREQ=YEARLY;BYMONTH=3;BYDAY=-1SU
END:DAYLIGHT
BEGIN:STANDARD
TZOFFSETFROM:+0200
TZOFFSETTO:+0100
TZNAME:CET
DTSTART:19701025T030000
RRULE:FREQ=YEARLY;BYMONTH=10;BYDAY=-1SU
END:STANDARD
END:VTIMEZONE
BEGIN:VEVENT
UID:896b5ad4d5ce9d666a67e0f738784d8b
SUMMARY:Stimmungsbilder der Wiener Klassik - Lech Classic Festival
URL:https://www.concerti.de/termine/stimmungsbilder-der-wiener-klassik-836313/
DTSTART;TZID=Europe/Berlin:20260804T170000
DTEND;TZID=Europe/Berlin:20260804T190000
DESCRIPTION:Interpreten: Festivalensembles \nProgramm: Mozart: Quartett F-Dur KV 370 & Serenade Nr. 10 B-Dur KV 361 „Gran Partita“ (Auszüge)\, Beethoven: Sextett Es-dur op. 71\, Schubert: Trio Es-Dur D 929 \nhttps://www.concerti.de/termine/stimmungsbilder-der-wiener-klassik-836313/
LOCATION:Lechwelten\, Konzertsaal\, Lech
END:VEVENT
END:VCALENDAR