BEGIN:VCALENDAR
VERSION:2.0
PRODID:concerti//https://www.concerti.de
CALSCALE:GREGORIAN
BEGIN:VTIMEZONE
TZID:Europe/Berlin
X-LIC-LOCATION:Europe/Berlin
BEGIN:DAYLIGHT
TZOFFSETFROM:+0100
TZOFFSETTO:+0200
TZNAME:CEST
DTSTART:19700329T020000
RRULE:FREQ=YEARLY;BYMONTH=3;BYDAY=-1SU
END:DAYLIGHT
BEGIN:STANDARD
TZOFFSETFROM:+0200
TZOFFSETTO:+0100
TZNAME:CET
DTSTART:19701025T030000
RRULE:FREQ=YEARLY;BYMONTH=10;BYDAY=-1SU
END:STANDARD
END:VTIMEZONE
BEGIN:VEVENT
UID:844b12386abb5044ad65bcda19b7e509
SUMMARY:Camilla Nylund (Sopran), Klaus-Florian Vogt (Tenor), Carl-Philipp-Emmanuel-Bach-Chor Hamburg, Sczcecin Philharmonic Orchestra, Hansjörg Albrecht (Leitung)
URL:https://www.concerti.de/termine/camilla-nylund-sopran-klaus-florian-vogt-tenor-carl-philipp-emmanuel-bach-chor-hamburg-sczcecin-philharmonic-orchestra-hansjoerg-albrecht-leitung-elbphilharmonie-837198/
DTSTART;TZID=Europe/Berlin:20260623T200000
DTEND;TZID=Europe/Berlin:20260623T220000
DESCRIPTION:Interpreten: Camilla Nylund (Sopran)\, Klaus-Florian Vogt (Tenor)\, Carl-Philipp-Emmanuel-Bach-Chor Hamburg\, Sczcecin Philharmonic Orchestra\, Hansjörg Albrecht (Leitung) \nProgramm: Wagner: Vorspiele zu „Die Meistersinger von Nürnberg“ & „Parsifal“\, Ouvertüre zu „Tannhäuser“\, Braunfels: Te Deum \nhttps://www.concerti.de/termine/camilla-nylund-sopran-klaus-florian-vogt-tenor-carl-philipp-emmanuel-bach-chor-hamburg-sczcecin-philharmonic-orchestra-hansjoerg-albrecht-leitung-elbphilharmonie-837198/
LOCATION:Elbphilharmonie\, Platz der Deutschen Einheit 1\, 20457 Hamburg
END:VEVENT
END:VCALENDAR