BEGIN:VCALENDAR
VERSION:2.0
PRODID:concerti//https://www.concerti.de
CALSCALE:GREGORIAN
BEGIN:VTIMEZONE
TZID:Europe/Berlin
X-LIC-LOCATION:Europe/Berlin
BEGIN:DAYLIGHT
TZOFFSETFROM:+0100
TZOFFSETTO:+0200
TZNAME:CEST
DTSTART:19700329T020000
RRULE:FREQ=YEARLY;BYMONTH=3;BYDAY=-1SU
END:DAYLIGHT
BEGIN:STANDARD
TZOFFSETFROM:+0200
TZOFFSETTO:+0100
TZNAME:CET
DTSTART:19701025T030000
RRULE:FREQ=YEARLY;BYMONTH=10;BYDAY=-1SU
END:STANDARD
END:VTIMEZONE
BEGIN:VEVENT
UID:735be304218754be01191ff011dd790e
SUMMARY:Havanna Nocturna - Klassik am Dom
URL:https://www.concerti.de/termine/havanna-nocturna-838030/
DTSTART;TZID=Europe/Berlin:20260716T200000
DTEND;TZID=Europe/Berlin:20260716T220000
DESCRIPTION:Interpreten: Erwin Schrott (Bassbariton) \nhttps://www.concerti.de/termine/havanna-nocturna-838030/
LOCATION:Domplatz\, Linz
END:VEVENT
END:VCALENDAR