BEGIN:VCALENDAR
VERSION:2.0
PRODID:concerti//https://www.concerti.de
CALSCALE:GREGORIAN
BEGIN:VTIMEZONE
TZID:Europe/Berlin
X-LIC-LOCATION:Europe/Berlin
BEGIN:DAYLIGHT
TZOFFSETFROM:+0100
TZOFFSETTO:+0200
TZNAME:CEST
DTSTART:19700329T020000
RRULE:FREQ=YEARLY;BYMONTH=3;BYDAY=-1SU
END:DAYLIGHT
BEGIN:STANDARD
TZOFFSETFROM:+0200
TZOFFSETTO:+0100
TZNAME:CET
DTSTART:19701025T030000
RRULE:FREQ=YEARLY;BYMONTH=10;BYDAY=-1SU
END:STANDARD
END:VTIMEZONE
BEGIN:VEVENT
UID:b5a1f45a588fe67d5a6e3dedbf81e6cb
SUMMARY:Royal Band of the Belgian Airforce - Innsbrucker Promenadenkonzerte
URL:https://www.concerti.de/termine/royal-band-of-the-belgian-airforce-838082/
DTSTART;TZID=Europe/Berlin:20260728T193000
DTEND;TZID=Europe/Berlin:20260728T213000
DESCRIPTION:Interpreten: Royal Band of the Belgian Airforce \nhttps://www.concerti.de/termine/royal-band-of-the-belgian-airforce-838082/
LOCATION:Hofburg\, Innsbruck
END:VEVENT
END:VCALENDAR