BEGIN:VCALENDAR
VERSION:2.0
PRODID:concerti//https://www.concerti.de
CALSCALE:GREGORIAN
BEGIN:VTIMEZONE
TZID:Europe/Berlin
X-LIC-LOCATION:Europe/Berlin
BEGIN:DAYLIGHT
TZOFFSETFROM:+0100
TZOFFSETTO:+0200
TZNAME:CEST
DTSTART:19700329T020000
RRULE:FREQ=YEARLY;BYMONTH=3;BYDAY=-1SU
END:DAYLIGHT
BEGIN:STANDARD
TZOFFSETFROM:+0200
TZOFFSETTO:+0100
TZNAME:CET
DTSTART:19701025T030000
RRULE:FREQ=YEARLY;BYMONTH=10;BYDAY=-1SU
END:STANDARD
END:VTIMEZONE
BEGIN:VEVENT
UID:b60dfcab70fdaddcfd23454da826f2e1
SUMMARY:Sinfonik &amp; Stimme - St. Pauler Kultursommer
URL:https://www.concerti.de/termine/sinfonik-stimme-838094/
DTSTART;TZID=Europe/Berlin:20260731T193000
DTEND;TZID=Europe/Berlin:20260731T213000
DESCRIPTION:Interpreten: AIMS-Orchester\, Patrick Hahn (Leitung) \nProgramm: Bartók: Concerto u. a. \nhttps://www.concerti.de/termine/sinfonik-stimme-838094/
LOCATION:Stiftskirche St. Paul\, St. Paul
END:VEVENT
END:VCALENDAR