BEGIN:VCALENDAR
VERSION:2.0
PRODID:concerti//https://www.concerti.de
CALSCALE:GREGORIAN
BEGIN:VTIMEZONE
TZID:Europe/Berlin
X-LIC-LOCATION:Europe/Berlin
BEGIN:DAYLIGHT
TZOFFSETFROM:+0100
TZOFFSETTO:+0200
TZNAME:CEST
DTSTART:19700329T020000
RRULE:FREQ=YEARLY;BYMONTH=3;BYDAY=-1SU
END:DAYLIGHT
BEGIN:STANDARD
TZOFFSETFROM:+0200
TZOFFSETTO:+0100
TZNAME:CET
DTSTART:19701025T030000
RRULE:FREQ=YEARLY;BYMONTH=10;BYDAY=-1SU
END:STANDARD
END:VTIMEZONE
BEGIN:VEVENT
UID:a65e68b874f4f33ecc62a101e0fca41d
SUMMARY:Diana Damrau (Sopran), Symphonieorchester der Volkjsoper Wien, Pavel Baleff (Leitung) - Klassik am Dom
URL:https://www.concerti.de/termine/diana-damrau-sopran-symphonieorchester-der-volkjsoper-wien-pavel-baleff-leitung-838097/
DTSTART;TZID=Europe/Berlin:20260731T200000
DTEND;TZID=Europe/Berlin:20260731T220000
DESCRIPTION:Interpreten: Diana Damrau (Sopran)\, Symphonieorchester der Volkjsoper Wien\, Pavel Baleff (Leitung) \nhttps://www.concerti.de/termine/diana-damrau-sopran-symphonieorchester-der-volkjsoper-wien-pavel-baleff-leitung-838097/
LOCATION:Domplatz\, Linz
END:VEVENT
END:VCALENDAR