BEGIN:VCALENDAR
VERSION:2.0
PRODID:concerti//https://www.concerti.de
CALSCALE:GREGORIAN
BEGIN:VTIMEZONE
TZID:Europe/Berlin
X-LIC-LOCATION:Europe/Berlin
BEGIN:DAYLIGHT
TZOFFSETFROM:+0100
TZOFFSETTO:+0200
TZNAME:CEST
DTSTART:19700329T020000
RRULE:FREQ=YEARLY;BYMONTH=3;BYDAY=-1SU
END:DAYLIGHT
BEGIN:STANDARD
TZOFFSETFROM:+0200
TZOFFSETTO:+0100
TZNAME:CET
DTSTART:19701025T030000
RRULE:FREQ=YEARLY;BYMONTH=10;BYDAY=-1SU
END:STANDARD
END:VTIMEZONE
BEGIN:VEVENT
UID:3f5495dd4066990b257f4af6520f36e7
SUMMARY:Stigwood/Oakes: Saturday Night Fever - Musicalsommer Kufstein
URL:https://www.concerti.de/termine/stigwood-oakes-saturday-night-fever-838100/
DTSTART;TZID=Europe/Berlin:20260815T183000
DTEND;TZID=Europe/Berlin:20260815T203000
DESCRIPTION:Interpreten: Andrea de Majo (Tony Manero)\, Marina Maniglio (Stephanie Mangano)\, Eva Maria Brugger (Leitung)\, Vanni Viscusi (Regie) \nProgramm: Musik von Bee Gees \nhttps://www.concerti.de/termine/stigwood-oakes-saturday-night-fever-838100/
LOCATION:Festung Kufstein\, Kufstein
END:VEVENT
END:VCALENDAR