BEGIN:VCALENDAR
VERSION:2.0
PRODID:concerti//https://www.concerti.de
CALSCALE:GREGORIAN
BEGIN:VTIMEZONE
TZID:Europe/Berlin
X-LIC-LOCATION:Europe/Berlin
BEGIN:DAYLIGHT
TZOFFSETFROM:+0100
TZOFFSETTO:+0200
TZNAME:CEST
DTSTART:19700329T020000
RRULE:FREQ=YEARLY;BYMONTH=3;BYDAY=-1SU
END:DAYLIGHT
BEGIN:STANDARD
TZOFFSETFROM:+0200
TZOFFSETTO:+0100
TZNAME:CET
DTSTART:19701025T030000
RRULE:FREQ=YEARLY;BYMONTH=10;BYDAY=-1SU
END:STANDARD
END:VTIMEZONE
BEGIN:VEVENT
UID:0c53d8f8f900bc3148654c859a56b71e
SUMMARY:Johanna Uhrig (Sopran), Daniel Ochoa (Bariton), Figuralchor der St.-Johannis-Kirche, Rostocker Motettenchor, Norddeutsche Philharmonie Rostock, Markus Johannes Langer (Leitung)
URL:https://www.concerti.de/termine/johanna-uhrig-sopran-daniel-ochoa-bariton-figuralchor-der-st-johannis-kirche-rostocker-motettenchor-norddeutsche-philharmonie-rostock-markus-johannes-langer-leitung-nikolaikirche-rostock-838512/
DTSTART;TZID=Europe/Berlin:20261114T193000
DTEND;TZID=Europe/Berlin:20261114T213000
DESCRIPTION:Interpreten: Johanna Uhrig (Sopran)\, Daniel Ochoa (Bariton)\, Figuralchor der St.-Johannis-Kirche\, Rostocker Motettenchor\, Norddeutsche Philharmonie Rostock\, Markus Johannes Langer (Leitung) \nProgramm: Brahms: Ein deutsches Requiem op. 45\, Begräbnisgesang op. 13 & Warum ist das Licht gegeben dem Mühseligen op. 74/1 \nhttps://www.concerti.de/termine/johanna-uhrig-sopran-daniel-ochoa-bariton-figuralchor-der-st-johannis-kirche-rostocker-motettenchor-norddeutsche-philharmonie-rostock-markus-johannes-langer-leitung-nikolaikirche-rostock-838512/
LOCATION:Nikolaikirche Rostock\, Bei der Nikolaikirche 1\, 18055 Rostock
END:VEVENT
END:VCALENDAR