BEGIN:VCALENDAR
VERSION:2.0
PRODID:concerti//https://www.concerti.de
CALSCALE:GREGORIAN
BEGIN:VTIMEZONE
TZID:Europe/Berlin
X-LIC-LOCATION:Europe/Berlin
BEGIN:DAYLIGHT
TZOFFSETFROM:+0100
TZOFFSETTO:+0200
TZNAME:CEST
DTSTART:19700329T020000
RRULE:FREQ=YEARLY;BYMONTH=3;BYDAY=-1SU
END:DAYLIGHT
BEGIN:STANDARD
TZOFFSETFROM:+0200
TZOFFSETTO:+0100
TZNAME:CET
DTSTART:19701025T030000
RRULE:FREQ=YEARLY;BYMONTH=10;BYDAY=-1SU
END:STANDARD
END:VTIMEZONE
BEGIN:VEVENT
UID:5a5bc1df89f84ac95c5e124dcfb42a74
SUMMARY:Life Could Be a Dream - Dennheritzer Klassik-Open-Air
URL:https://www.concerti.de/termine/life-could-be-a-dream-838597/
DTSTART;TZID=Europe/Berlin:20260821T203000
DTEND;TZID=Europe/Berlin:20260821T223000
DESCRIPTION:Interpreten: German Gents \nhttps://www.concerti.de/termine/life-could-be-a-dream-838597/
LOCATION:Hof der Familie Kästner\, Dennheritz
END:VEVENT
END:VCALENDAR