BEGIN:VCALENDAR
VERSION:2.0
PRODID:concerti//https://www.concerti.de
CALSCALE:GREGORIAN
BEGIN:VTIMEZONE
TZID:Europe/Berlin
X-LIC-LOCATION:Europe/Berlin
BEGIN:DAYLIGHT
TZOFFSETFROM:+0100
TZOFFSETTO:+0200
TZNAME:CEST
DTSTART:19700329T020000
RRULE:FREQ=YEARLY;BYMONTH=3;BYDAY=-1SU
END:DAYLIGHT
BEGIN:STANDARD
TZOFFSETFROM:+0200
TZOFFSETTO:+0100
TZNAME:CET
DTSTART:19701025T030000
RRULE:FREQ=YEARLY;BYMONTH=10;BYDAY=-1SU
END:STANDARD
END:VTIMEZONE
BEGIN:VEVENT
UID:d4d962fa7a72e6f952f4ab7ac0b23708
SUMMARY:Alexey Stadler (Violoncello), Spohr-Quartett - Ekhof Festival
URL:https://www.concerti.de/termine/alexey-stadler-violoncello-spohr-quartett-838708/
DTSTART;TZID=Europe/Berlin:20260523T190000
DTEND;TZID=Europe/Berlin:20260523T210000
DESCRIPTION:Interpreten: Alexey Stadler (Violoncello)\, Spohr-Quartett \nProgramm: Tschaikowsky: Streichsextett d-Moll op. 70\, Brahms: Streichsextett Nr. 1 B-Dur op. 18 \nhttps://www.concerti.de/termine/alexey-stadler-violoncello-spohr-quartett-838708/
LOCATION:Ekhof-Theater\, Gotha
END:VEVENT
END:VCALENDAR