BEGIN:VCALENDAR
VERSION:2.0
PRODID:concerti//https://www.concerti.de
CALSCALE:GREGORIAN
BEGIN:VTIMEZONE
TZID:Europe/Berlin
X-LIC-LOCATION:Europe/Berlin
BEGIN:DAYLIGHT
TZOFFSETFROM:+0100
TZOFFSETTO:+0200
TZNAME:CEST
DTSTART:19700329T020000
RRULE:FREQ=YEARLY;BYMONTH=3;BYDAY=-1SU
END:DAYLIGHT
BEGIN:STANDARD
TZOFFSETFROM:+0200
TZOFFSETTO:+0100
TZNAME:CET
DTSTART:19701025T030000
RRULE:FREQ=YEARLY;BYMONTH=10;BYDAY=-1SU
END:STANDARD
END:VTIMEZONE
BEGIN:VEVENT
UID:a46eb2ca8a6d544ffb3a3c7451d4a64c
SUMMARY:bmajor - Gartenreichsommer: Seekonzert
URL:https://www.concerti.de/termine/bmajor-838715/
DTSTART;TZID=Europe/Berlin:20260530T180000
DTEND;TZID=Europe/Berlin:20260530T200000
DESCRIPTION:Interpreten: bmajor \nhttps://www.concerti.de/termine/bmajor-838715/
LOCATION:Park\, Wörlitz
END:VEVENT
END:VCALENDAR