BEGIN:VCALENDAR
VERSION:2.0
PRODID:concerti//https://www.concerti.de
CALSCALE:GREGORIAN
BEGIN:VTIMEZONE
TZID:Europe/Berlin
X-LIC-LOCATION:Europe/Berlin
BEGIN:DAYLIGHT
TZOFFSETFROM:+0100
TZOFFSETTO:+0200
TZNAME:CEST
DTSTART:19700329T020000
RRULE:FREQ=YEARLY;BYMONTH=3;BYDAY=-1SU
END:DAYLIGHT
BEGIN:STANDARD
TZOFFSETFROM:+0200
TZOFFSETTO:+0100
TZNAME:CET
DTSTART:19701025T030000
RRULE:FREQ=YEARLY;BYMONTH=10;BYDAY=-1SU
END:STANDARD
END:VTIMEZONE
BEGIN:VEVENT
UID:c970c058d9a6635848f490d235b268a8
SUMMARY:Nils Wanderer (Countertenor), Johannes Ötzbrugger (Laute &#038; Theorbe), Barockorchester der Thüringen Philharmonie Gotha-Eisenach, Alexej Barchevitch (Leitung) - Ekhof Festival
URL:https://www.concerti.de/termine/nils-wanderer-countertenor-johannes-oetzbrugger-laute-theorbe-barockorchester-der-thueringen-philharmonie-gotha-eisenach-alexej-barchevitch-leitung-838769/
DTSTART;TZID=Europe/Berlin:20260905T190000
DTEND;TZID=Europe/Berlin:20260905T210000
DESCRIPTION:Interpreten: Nils Wanderer (Countertenor)\, Johannes Ötzbrugger (Laute & Theorbe)\, Barockorchester der Thüringen Philharmonie Gotha-Eisenach\, Alexej Barchevitch (Leitung) \nProgramm: Werke von Monteverdi\, Dowland\, Cavalli\, Purcell\, Vivaldi\, Händel\, Biber\, Tartini\, Corelli\, Briegel \nhttps://www.concerti.de/termine/nils-wanderer-countertenor-johannes-oetzbrugger-laute-theorbe-barockorchester-der-thueringen-philharmonie-gotha-eisenach-alexej-barchevitch-leitung-838769/
LOCATION:Ekhof-Theater\, Gotha
END:VEVENT
END:VCALENDAR