BEGIN:VCALENDAR
VERSION:2.0
PRODID:concerti//https://www.concerti.de
CALSCALE:GREGORIAN
BEGIN:VTIMEZONE
TZID:Europe/Berlin
X-LIC-LOCATION:Europe/Berlin
BEGIN:DAYLIGHT
TZOFFSETFROM:+0100
TZOFFSETTO:+0200
TZNAME:CEST
DTSTART:19700329T020000
RRULE:FREQ=YEARLY;BYMONTH=3;BYDAY=-1SU
END:DAYLIGHT
BEGIN:STANDARD
TZOFFSETFROM:+0200
TZOFFSETTO:+0100
TZNAME:CET
DTSTART:19701025T030000
RRULE:FREQ=YEARLY;BYMONTH=10;BYDAY=-1SU
END:STANDARD
END:VTIMEZONE
BEGIN:VEVENT
UID:d6eb1dc02731514ad81a187a47386837
SUMMARY:Aco Bišcevic (Tenor &#038; Klavier), Alberto Pagani (Tanz u. a.), Mitglieder der Thüringen Philharmonie Gotha-Eisenach - Ekhof Festival
URL:https://www.concerti.de/termine/aco-biscevic-tenor-klavier-alberto-pagani-tanz-u-a-mitglieder-der-thueringen-philharmonie-gotha-eisenach-838772/
DTSTART;TZID=Europe/Berlin:20260912T190000
DTEND;TZID=Europe/Berlin:20260912T210000
DESCRIPTION:Interpreten: Aco Bišcevic (Tenor & Klavier)\, Alberto Pagani (Tanz u. a.)\, Mitglieder der Thüringen Philharmonie Gotha-Eisenach \nProgramm: Werke von Rameau\, Händel\, Vivaldi\, Tartini\, Mozart\, Schubert\, Bartholdy\, Debussy\, Saint-Saëns\, Ravel\, Knef & Piaf \nhttps://www.concerti.de/termine/aco-biscevic-tenor-klavier-alberto-pagani-tanz-u-a-mitglieder-der-thueringen-philharmonie-gotha-eisenach-838772/
LOCATION:Ekhof-Theater\, Gotha
END:VEVENT
END:VCALENDAR