BEGIN:VCALENDAR
VERSION:2.0
PRODID:concerti//https://www.concerti.de
CALSCALE:GREGORIAN
BEGIN:VTIMEZONE
TZID:Europe/Berlin
X-LIC-LOCATION:Europe/Berlin
BEGIN:DAYLIGHT
TZOFFSETFROM:+0100
TZOFFSETTO:+0200
TZNAME:CEST
DTSTART:19700329T020000
RRULE:FREQ=YEARLY;BYMONTH=3;BYDAY=-1SU
END:DAYLIGHT
BEGIN:STANDARD
TZOFFSETFROM:+0200
TZOFFSETTO:+0100
TZNAME:CET
DTSTART:19701025T030000
RRULE:FREQ=YEARLY;BYMONTH=10;BYDAY=-1SU
END:STANDARD
END:VTIMEZONE
BEGIN:VEVENT
UID:c4ba915d0ed25e78e956aef0a5921afc
SUMMARY:Benda: Romeo und Julie - Ekhof Festival
URL:https://www.concerti.de/termine/benda-romeo-und-julie-838775/
DTSTART;TZID=Europe/Berlin:20260927T190000
DTEND;TZID=Europe/Berlin:20260927T210000
DESCRIPTION:Interpreten: Aco Bišcevic (Romeo)\, Cantus Thuringia\, Barockorchester der Thüringen Philharmonie Gotha-Eisenach\, Michael Hofstetter (Leitung)\, Thomas Thieme (Rezitation) \nhttps://www.concerti.de/termine/benda-romeo-und-julie-838775/
LOCATION:Ekhof-Theater\, Gotha
END:VEVENT
END:VCALENDAR