BEGIN:VCALENDAR
VERSION:2.0
PRODID:concerti//https://www.concerti.de
CALSCALE:GREGORIAN
BEGIN:VTIMEZONE
TZID:Europe/Berlin
X-LIC-LOCATION:Europe/Berlin
BEGIN:DAYLIGHT
TZOFFSETFROM:+0100
TZOFFSETTO:+0200
TZNAME:CEST
DTSTART:19700329T020000
RRULE:FREQ=YEARLY;BYMONTH=3;BYDAY=-1SU
END:DAYLIGHT
BEGIN:STANDARD
TZOFFSETFROM:+0200
TZOFFSETTO:+0100
TZNAME:CET
DTSTART:19701025T030000
RRULE:FREQ=YEARLY;BYMONTH=10;BYDAY=-1SU
END:STANDARD
END:VTIMEZONE
BEGIN:VEVENT
UID:5cb186139614eba26e98b3f0392af779
SUMMARY:Eröffnungskonzert - Halbturner Schlosskonzerte
URL:https://www.concerti.de/termine/eroeffnungskonzert-838945/
DTSTART;TZID=Europe/Berlin:20260507T193000
DTEND;TZID=Europe/Berlin:20260507T213000
DESCRIPTION:Interpreten: Ensemble Trisonante \nProgramm: Werke von Hensel\, Mendelssohn\, Schumann & Bonis \nhttps://www.concerti.de/termine/eroeffnungskonzert-838945/
LOCATION:Schloss Halbturn\, Halbturn
END:VEVENT
END:VCALENDAR