BEGIN:VCALENDAR
VERSION:2.0
PRODID:concerti//https://www.concerti.de
CALSCALE:GREGORIAN
BEGIN:VTIMEZONE
TZID:Europe/Berlin
X-LIC-LOCATION:Europe/Berlin
BEGIN:DAYLIGHT
TZOFFSETFROM:+0100
TZOFFSETTO:+0200
TZNAME:CEST
DTSTART:19700329T020000
RRULE:FREQ=YEARLY;BYMONTH=3;BYDAY=-1SU
END:DAYLIGHT
BEGIN:STANDARD
TZOFFSETFROM:+0200
TZOFFSETTO:+0100
TZNAME:CET
DTSTART:19701025T030000
RRULE:FREQ=YEARLY;BYMONTH=10;BYDAY=-1SU
END:STANDARD
END:VTIMEZONE
BEGIN:VEVENT
UID:d050fd1eff3fc707f388e4e85ed100c1
SUMMARY:Florian Krumpöck (Klavier), Karl Markovics (Rezitation) - Halbturner Schlosskonzerte
URL:https://www.concerti.de/termine/florian-krumpoeck-klavier-karl-markovics-rezitation-838977/
DTSTART;TZID=Europe/Berlin:20260530T193000
DTEND;TZID=Europe/Berlin:20260530T213000
DESCRIPTION:Interpreten: Florian Krumpöck (Klavier)\, Karl Markovics (Rezitation) \nProgramm: Werke von Beethoven\, Lesung aus Wagner: Eine Pilgerfahrt zu Beethoven \nhttps://www.concerti.de/termine/florian-krumpoeck-klavier-karl-markovics-rezitation-838977/
LOCATION:Schloss Halbturn\, Halbturn
END:VEVENT
END:VCALENDAR