BEGIN:VCALENDAR
VERSION:2.0
PRODID:concerti//https://www.concerti.de
CALSCALE:GREGORIAN
BEGIN:VTIMEZONE
TZID:Europe/Berlin
X-LIC-LOCATION:Europe/Berlin
BEGIN:DAYLIGHT
TZOFFSETFROM:+0100
TZOFFSETTO:+0200
TZNAME:CEST
DTSTART:19700329T020000
RRULE:FREQ=YEARLY;BYMONTH=3;BYDAY=-1SU
END:DAYLIGHT
BEGIN:STANDARD
TZOFFSETFROM:+0200
TZOFFSETTO:+0100
TZNAME:CET
DTSTART:19701025T030000
RRULE:FREQ=YEARLY;BYMONTH=10;BYDAY=-1SU
END:STANDARD
END:VTIMEZONE
BEGIN:VEVENT
UID:0161a52576cf0118399fb9e67ca37021
SUMMARY:Rossini: La cambiale di matrimonio - Schloss Kirchstetten Klassikfestival
URL:https://www.concerti.de/termine/rossini-la-cambiale-di-matrimonio-839103/
DTSTART;TZID=Europe/Berlin:20260805T200000
DTEND;TZID=Europe/Berlin:20260805T220000
DESCRIPTION:Interpreten: Virtuosi Brunenses\, Hooman Khalatbari (Leitung)\, Richard Panzenböck (Regie) \nhttps://www.concerti.de/termine/rossini-la-cambiale-di-matrimonio-839103/
LOCATION:Schloss Kirchstetten\, Kirchstetten
END:VEVENT
END:VCALENDAR