BEGIN:VCALENDAR
VERSION:2.0
PRODID:concerti//https://www.concerti.de
CALSCALE:GREGORIAN
BEGIN:VTIMEZONE
TZID:Europe/Berlin
X-LIC-LOCATION:Europe/Berlin
BEGIN:DAYLIGHT
TZOFFSETFROM:+0100
TZOFFSETTO:+0200
TZNAME:CEST
DTSTART:19700329T020000
RRULE:FREQ=YEARLY;BYMONTH=3;BYDAY=-1SU
END:DAYLIGHT
BEGIN:STANDARD
TZOFFSETFROM:+0200
TZOFFSETTO:+0100
TZNAME:CET
DTSTART:19701025T030000
RRULE:FREQ=YEARLY;BYMONTH=10;BYDAY=-1SU
END:STANDARD
END:VTIMEZONE
BEGIN:VEVENT
UID:3becc6c696f2c01cc732e0dceabc6d82
SUMMARY:Die Magie großer Kino-Momente - Schloss Kirchstetten Klassikfestival: Open-Air
URL:https://www.concerti.de/termine/die-magie-grosser-kino-momente-839159/
DTSTART;TZID=Europe/Berlin:20260815T200000
DTEND;TZID=Europe/Berlin:20260815T220000
DESCRIPTION:Interpreten: Symphonieorchester der TU Wien \nhttps://www.concerti.de/termine/die-magie-grosser-kino-momente-839159/
LOCATION:Schloss Kirchstetten\, Kirchstetten
END:VEVENT
END:VCALENDAR