BEGIN:VCALENDAR
VERSION:2.0
PRODID:concerti//https://www.concerti.de
CALSCALE:GREGORIAN
BEGIN:VTIMEZONE
TZID:Europe/Berlin
X-LIC-LOCATION:Europe/Berlin
BEGIN:DAYLIGHT
TZOFFSETFROM:+0100
TZOFFSETTO:+0200
TZNAME:CEST
DTSTART:19700329T020000
RRULE:FREQ=YEARLY;BYMONTH=3;BYDAY=-1SU
END:DAYLIGHT
BEGIN:STANDARD
TZOFFSETFROM:+0200
TZOFFSETTO:+0100
TZNAME:CET
DTSTART:19701025T030000
RRULE:FREQ=YEARLY;BYMONTH=10;BYDAY=-1SU
END:STANDARD
END:VTIMEZONE
BEGIN:VEVENT
UID:65880c0bff6f5f82c2490f7713066bec
SUMMARY:Vadim Chaimovich (Klavier) - Halbturner Schlosskonzerte
URL:https://www.concerti.de/termine/vadim-chaimovich-klavier-839173/
DTSTART;TZID=Europe/Berlin:20260903T193000
DTEND;TZID=Europe/Berlin:20260903T213000
DESCRIPTION:Interpreten: Vadim Chaimovich (Klavier) \nProgramm: Werke von Pachelbel\, Haydn\, Chopin\, Rachmaninow & Tschaikowsky \nhttps://www.concerti.de/termine/vadim-chaimovich-klavier-839173/
LOCATION:Schloss Halbturn\, Halbturn
END:VEVENT
END:VCALENDAR