BEGIN:VCALENDAR
VERSION:2.0
PRODID:concerti//https://www.concerti.de
CALSCALE:GREGORIAN
BEGIN:VTIMEZONE
TZID:Europe/Berlin
X-LIC-LOCATION:Europe/Berlin
BEGIN:DAYLIGHT
TZOFFSETFROM:+0100
TZOFFSETTO:+0200
TZNAME:CEST
DTSTART:19700329T020000
RRULE:FREQ=YEARLY;BYMONTH=3;BYDAY=-1SU
END:DAYLIGHT
BEGIN:STANDARD
TZOFFSETFROM:+0200
TZOFFSETTO:+0100
TZNAME:CET
DTSTART:19701025T030000
RRULE:FREQ=YEARLY;BYMONTH=10;BYDAY=-1SU
END:STANDARD
END:VTIMEZONE
BEGIN:VEVENT
UID:3f8411cd0510ab5a0ed51f589edd982e
SUMMARY:Cross-Over – Cello meets Pop &amp; Rock - Halbturner Schlosskonzerte
URL:https://www.concerti.de/termine/cross-over-cello-meets-pop-rock-839188/
DTSTART;TZID=Europe/Berlin:20260924T193000
DTEND;TZID=Europe/Berlin:20260924T213000
DESCRIPTION:Interpreten: Erich Oskar Huetter (Violoncello) & Friends \nProgramm: Werke von Mozart\, Coldplay\, Adele\, Lennon u. a. \nhttps://www.concerti.de/termine/cross-over-cello-meets-pop-rock-839188/
LOCATION:Schloss Halbturn\, Halbturn
END:VEVENT
END:VCALENDAR