BEGIN:VCALENDAR
VERSION:2.0
PRODID:concerti//https://www.concerti.de
CALSCALE:GREGORIAN
BEGIN:VTIMEZONE
TZID:Europe/Berlin
X-LIC-LOCATION:Europe/Berlin
BEGIN:DAYLIGHT
TZOFFSETFROM:+0100
TZOFFSETTO:+0200
TZNAME:CEST
DTSTART:19700329T020000
RRULE:FREQ=YEARLY;BYMONTH=3;BYDAY=-1SU
END:DAYLIGHT
BEGIN:STANDARD
TZOFFSETFROM:+0200
TZOFFSETTO:+0100
TZNAME:CET
DTSTART:19701025T030000
RRULE:FREQ=YEARLY;BYMONTH=10;BYDAY=-1SU
END:STANDARD
END:VTIMEZONE
BEGIN:VEVENT
UID:c2c9ea47215b824c50b712a5947867db
SUMMARY:Sol Gabetta (Violoncello), Kristian Bezuidenhout (Hammerklavier) - Solsberg Festival
URL:https://www.concerti.de/termine/sol-gabetta-violoncello-kristian-bezuidenhout-hammerklavier-839950/
DTSTART;TZID=Europe/Berlin:20260625T193000
DTEND;TZID=Europe/Berlin:20260625T213000
DESCRIPTION:Interpreten: Sol Gabetta (Violoncello)\, Kristian Bezuidenhout (Hammerklavier) \nProgramm: Brahms: Feldeinsamkeit aus „Sechs Lieder“ op. 86\, Wie Melodien zieht es mir leise durch den Sinn aus „Fünf Lieder“ op. 105\, Intermezzo aus „Sechs Klavierstücke“ op. 118 & Cellosonate a-Moll op. 38\, Mendelssohn: Cellosonate Nr. 1 B-Dur op. 45\, Lieder ohne Worte op. 19 (Auswahl) & Lied ohne Worte D-Dur op. 109 \nhttps://www.concerti.de/termine/sol-gabetta-violoncello-kristian-bezuidenhout-hammerklavier-839950/
LOCATION:Klosterkirche Olsberg\, Olsberg
END:VEVENT
END:VCALENDAR