BEGIN:VCALENDAR
VERSION:2.0
PRODID:concerti//https://www.concerti.de
CALSCALE:GREGORIAN
BEGIN:VTIMEZONE
TZID:Europe/Berlin
X-LIC-LOCATION:Europe/Berlin
BEGIN:DAYLIGHT
TZOFFSETFROM:+0100
TZOFFSETTO:+0200
TZNAME:CEST
DTSTART:19700329T020000
RRULE:FREQ=YEARLY;BYMONTH=3;BYDAY=-1SU
END:DAYLIGHT
BEGIN:STANDARD
TZOFFSETFROM:+0200
TZOFFSETTO:+0100
TZNAME:CET
DTSTART:19701025T030000
RRULE:FREQ=YEARLY;BYMONTH=10;BYDAY=-1SU
END:STANDARD
END:VTIMEZONE
BEGIN:VEVENT
UID:5ca3902937a0eb1aa6ef63628e17e67b
SUMMARY:Andreas Ottensamer (Klarinette), Sol Gabetta (Violoncello), Dejan Lazić (Klavier) - Solsberg Festival
URL:https://www.concerti.de/termine/andreas-ottensamer-klarinette-sol-gabetta-violoncello-dejan-lazic-klavier-839958/
DTSTART;TZID=Europe/Berlin:20260627T193000
DTEND;TZID=Europe/Berlin:20260627T213000
DESCRIPTION:Interpreten: Andreas Ottensamer (Klarinette)\, Sol Gabetta (Violoncello)\, Dejan Lazić (Klavier) \nProgramm: Schtschedrin: Im Stile von Albéniz\, Rota: Klarinettentrio\, Bartók: Sechs Tänze im bulgarischen Rhythmus aus „Mikrokosmos“\, Brahms: Klarinettentrio a-Moll op. 114 u. a. \nhttps://www.concerti.de/termine/andreas-ottensamer-klarinette-sol-gabetta-violoncello-dejan-lazic-klavier-839958/
LOCATION:Klosterkirche Olsberg\, Olsberg
END:VEVENT
END:VCALENDAR