BEGIN:VCALENDAR
VERSION:2.0
PRODID:concerti//https://www.concerti.de
CALSCALE:GREGORIAN
BEGIN:VTIMEZONE
TZID:Europe/Berlin
X-LIC-LOCATION:Europe/Berlin
BEGIN:DAYLIGHT
TZOFFSETFROM:+0100
TZOFFSETTO:+0200
TZNAME:CEST
DTSTART:19700329T020000
RRULE:FREQ=YEARLY;BYMONTH=3;BYDAY=-1SU
END:DAYLIGHT
BEGIN:STANDARD
TZOFFSETFROM:+0200
TZOFFSETTO:+0100
TZNAME:CET
DTSTART:19701025T030000
RRULE:FREQ=YEARLY;BYMONTH=10;BYDAY=-1SU
END:STANDARD
END:VTIMEZONE
BEGIN:VEVENT
UID:6c2d7b0fb90ba8d6346bc0feef28dc0b
SUMMARY:Asya Fateyeva (Saxofon), Valeriya Myrosh (Klavier) - Solsberg Festival
URL:https://www.concerti.de/termine/asya-fateyeva-saxofon-valeriya-myrosh-klavier-839977/
DTSTART;TZID=Europe/Berlin:20260702T220000
DTEND;TZID=Europe/Berlin:20260703T000000
DESCRIPTION:Interpreten: Asya Fateyeva (Saxofon)\, Valeriya Myrosh (Klavier) \nProgramm: Schulhoff: Hot-Sonate\, Poulenc: Klarinettensonate op. 184\, Albright: Alt-Saxophon-Sonate\, Gershwin: 3 Preludes \nhttps://www.concerti.de/termine/asya-fateyeva-saxofon-valeriya-myrosh-klavier-839977/
LOCATION:Schützenkeller Rheinfelden\, Rheinfelden
END:VEVENT
END:VCALENDAR