BEGIN:VCALENDAR
VERSION:2.0
PRODID:concerti//https://www.concerti.de
CALSCALE:GREGORIAN
BEGIN:VTIMEZONE
TZID:Europe/Berlin
X-LIC-LOCATION:Europe/Berlin
BEGIN:DAYLIGHT
TZOFFSETFROM:+0100
TZOFFSETTO:+0200
TZNAME:CEST
DTSTART:19700329T020000
RRULE:FREQ=YEARLY;BYMONTH=3;BYDAY=-1SU
END:DAYLIGHT
BEGIN:STANDARD
TZOFFSETFROM:+0200
TZOFFSETTO:+0100
TZNAME:CET
DTSTART:19701025T030000
RRULE:FREQ=YEARLY;BYMONTH=10;BYDAY=-1SU
END:STANDARD
END:VTIMEZONE
BEGIN:VEVENT
UID:0362c4634722ab1f36799fe8c64c4f0d
SUMMARY:Sherman: Tschitti Tschitti Bäng Bäng
URL:https://www.concerti.de/termine/sherman-tschitti-tschitti-baeng-baeng-eduard-von-winterstein-theater-841089/
DTSTART;TZID=Europe/Berlin:20260501T180000
DTEND;TZID=Europe/Berlin:20260501T200000
DESCRIPTION:Interpreten: Sebastian Smulders (Caractacus Potts)\, Zsófia Szabó (Truly Scrumptious)\, Leander de Marel (Großvater Potts)\, Markus Teichler/Karl Friedrich Winter (Leitung)\, Stefan Haufe (Regie) \nhttps://www.concerti.de/termine/sherman-tschitti-tschitti-baeng-baeng-eduard-von-winterstein-theater-841089/
LOCATION:Eduard-von-Winterstein-Theater\, Buchholzer Straße 65\, 09456 Annaberg-Buchholz
END:VEVENT
END:VCALENDAR