BEGIN:VCALENDAR
VERSION:2.0
PRODID:concerti//https://www.concerti.de
CALSCALE:GREGORIAN
BEGIN:VTIMEZONE
TZID:Europe/Berlin
X-LIC-LOCATION:Europe/Berlin
BEGIN:DAYLIGHT
TZOFFSETFROM:+0100
TZOFFSETTO:+0200
TZNAME:CEST
DTSTART:19700329T020000
RRULE:FREQ=YEARLY;BYMONTH=3;BYDAY=-1SU
END:DAYLIGHT
BEGIN:STANDARD
TZOFFSETFROM:+0200
TZOFFSETTO:+0100
TZNAME:CET
DTSTART:19701025T030000
RRULE:FREQ=YEARLY;BYMONTH=10;BYDAY=-1SU
END:STANDARD
END:VTIMEZONE
BEGIN:VEVENT
UID:34faf23bbf3606e0c01879eab7f23809
SUMMARY:Lehár: Das Land des Lächelns
URL:https://www.concerti.de/termine/lehar-das-land-des-laechelns-theater-nordhausen-841163/
DTSTART;TZID=Europe/Berlin:20260523T193000
DTEND;TZID=Europe/Berlin:20260523T213000
DESCRIPTION:Interpreten: Julia Ermakova (Lisa)\, Thomas Kohl (Richter Lichtenfels)\, Marian Kalus (Gustl)\, Kyounghan Seo (Sou Chong)\, Luca Marcossi (Leitung)\, Benjamin Prins (Regie)\, Julia Ermakova (Lisa)\, Thomas Kohl (Richter Lichtenfels)\, Marian Kalus (Gustl)\, Kyounghan Seo (Sou Chong)\, Julian Gaudiano (Leitung)\, Benjamin Prins (Regie) \nhttps://www.concerti.de/termine/lehar-das-land-des-laechelns-theater-nordhausen-841163/
LOCATION:Theater Nordhausen\, Käthe-Kollwitz-Straße 15\, 99734 Nordhausen
END:VEVENT
END:VCALENDAR