BEGIN:VCALENDAR
VERSION:2.0
PRODID:concerti//https://www.concerti.de
CALSCALE:GREGORIAN
BEGIN:VTIMEZONE
TZID:Europe/Berlin
X-LIC-LOCATION:Europe/Berlin
BEGIN:DAYLIGHT
TZOFFSETFROM:+0100
TZOFFSETTO:+0200
TZNAME:CEST
DTSTART:19700329T020000
RRULE:FREQ=YEARLY;BYMONTH=3;BYDAY=-1SU
END:DAYLIGHT
BEGIN:STANDARD
TZOFFSETFROM:+0200
TZOFFSETTO:+0100
TZNAME:CET
DTSTART:19701025T030000
RRULE:FREQ=YEARLY;BYMONTH=10;BYDAY=-1SU
END:STANDARD
END:VTIMEZONE
BEGIN:VEVENT
UID:0e031753e52e32f099489d2449b2541d
SUMMARY:Heimat
URL:https://www.concerti.de/termine/heimat-burghof-841451/
DTSTART;TZID=Europe/Berlin:20260515T200000
DTEND;TZID=Europe/Berlin:20260515T220000
DESCRIPTION:Interpreten: Salut Salon \nProgramm: Werke von Vivaldi\, Rachmaninow u. a. \nhttps://www.concerti.de/termine/heimat-burghof-841451/
LOCATION:Burghof Lörrach\, Herrenstraße 5\, 79539 Lörrach
END:VEVENT
END:VCALENDAR