BEGIN:VCALENDAR
VERSION:2.0
PRODID:concerti//https://www.concerti.de
CALSCALE:GREGORIAN
BEGIN:VTIMEZONE
TZID:Europe/Berlin
X-LIC-LOCATION:Europe/Berlin
BEGIN:DAYLIGHT
TZOFFSETFROM:+0100
TZOFFSETTO:+0200
TZNAME:CEST
DTSTART:19700329T020000
RRULE:FREQ=YEARLY;BYMONTH=3;BYDAY=-1SU
END:DAYLIGHT
BEGIN:STANDARD
TZOFFSETFROM:+0200
TZOFFSETTO:+0100
TZNAME:CET
DTSTART:19701025T030000
RRULE:FREQ=YEARLY;BYMONTH=10;BYDAY=-1SU
END:STANDARD
END:VTIMEZONE
BEGIN:VEVENT
UID:ddd45f00a837ab140dcff3ec53f5a391
SUMMARY:Ravel: L&#8217;Enfant et les sortilèges &amp; L&#8217;Heure espagnole
URL:https://www.concerti.de/termine/ravel-lenfant-et-les-sortileges-lheure-espagnole-pfalztheater-kaiserslautern-841593/
DTSTART;TZID=Europe/Berlin:20260517T150000
DTEND;TZID=Europe/Berlin:20260517T170000
DESCRIPTION:Interpreten: Bethany Yeaman (Das Kind)\, Manon Jürgens/Slavica Božić (Mutter\, Chinesische Tasse & Libelle)\, Valerie Gels (Die Bergère & Die Eule)\, Sinja Maschke (Die Katze)\, Evgenia Selina (Das Eichhörnchen)\, Massimiliano Iezzi (Leitung)\, Anja Kühnhold (Regie)\, Massimiliano Iezzi (Leitung)\, Anja Kühnhold (Regie) \nhttps://www.concerti.de/termine/ravel-lenfant-et-les-sortileges-lheure-espagnole-pfalztheater-kaiserslautern-841593/
LOCATION:Pfalztheater\, Willy-Brandt-Platz 4-5\, 67657 Kaiserslautern
END:VEVENT
END:VCALENDAR