BEGIN:VCALENDAR
VERSION:2.0
PRODID:concerti//https://www.concerti.de
CALSCALE:GREGORIAN
BEGIN:VTIMEZONE
TZID:Europe/Berlin
X-LIC-LOCATION:Europe/Berlin
BEGIN:DAYLIGHT
TZOFFSETFROM:+0100
TZOFFSETTO:+0200
TZNAME:CEST
DTSTART:19700329T020000
RRULE:FREQ=YEARLY;BYMONTH=3;BYDAY=-1SU
END:DAYLIGHT
BEGIN:STANDARD
TZOFFSETFROM:+0200
TZOFFSETTO:+0100
TZNAME:CET
DTSTART:19701025T030000
RRULE:FREQ=YEARLY;BYMONTH=10;BYDAY=-1SU
END:STANDARD
END:VTIMEZONE
BEGIN:VEVENT
UID:e82ed4b4a69884fffda711f84644caf1
SUMMARY:Lucas &amp; Arthur Jussen (Klavier), Alexej Gerassimez (Percussion), Emil Kuyumcuyan (Percussion) - Klavier-Festival Ruhr
URL:https://www.concerti.de/termine/lucas-arthur-jussen-klavier-alexej-gerassimez-percussion-emil-kuyumcuyan-percussion-konzerthaus-dortmund-841999/
DTSTART;TZID=Europe/Berlin:20260530T180000
DTEND;TZID=Europe/Berlin:20260530T200000
DESCRIPTION:Interpreten: Lucas & Arthur Jussen (Klavier)\, Alexej Gerassimez (Percussion)\, Emil Kuyumcuyan (Percussion) \nProgramm: Bartók: Sonate für zwei Klaviere & Schlagwerk\, Gershwin/Levine: Rhapsody in Blue\, Bernstein/Sadlo: Sinfonische Tänze aus „West Side Story“\, Adams/Gerassimez: Short Ride in a Fast Machine \nhttps://www.concerti.de/termine/lucas-arthur-jussen-klavier-alexej-gerassimez-percussion-emil-kuyumcuyan-percussion-konzerthaus-dortmund-841999/
LOCATION:Konzerthaus Dortmund\, Brückstraße 21\, 44135 Dortmund
END:VEVENT
END:VCALENDAR