BEGIN:VCALENDAR
VERSION:2.0
PRODID:concerti//https://www.concerti.de
CALSCALE:GREGORIAN
BEGIN:VTIMEZONE
TZID:Europe/Berlin
X-LIC-LOCATION:Europe/Berlin
BEGIN:DAYLIGHT
TZOFFSETFROM:+0100
TZOFFSETTO:+0200
TZNAME:CEST
DTSTART:19700329T020000
RRULE:FREQ=YEARLY;BYMONTH=3;BYDAY=-1SU
END:DAYLIGHT
BEGIN:STANDARD
TZOFFSETFROM:+0200
TZOFFSETTO:+0100
TZNAME:CET
DTSTART:19701025T030000
RRULE:FREQ=YEARLY;BYMONTH=10;BYDAY=-1SU
END:STANDARD
END:VTIMEZONE
BEGIN:VEVENT
UID:5289412adf0c200c9019779ce28d7147
SUMMARY:Mozart: Die Zauberflöte
URL:https://www.concerti.de/termine/mozart-die-zauberfloete-staatstheater-mainz-842110/
DTSTART;TZID=Europe/Berlin:20260513T193000
DTEND;TZID=Europe/Berlin:20260513T213000
DESCRIPTION:Kaum ein Werk steht so exemplarisch für die Aufklärung auf der Opernbühne und für die Gattung selbst wie „Die Zauberflöte“. Darin stehen Märchen\, Philosophie und Volkstheater in einem ebenso unterhaltsamen wie vieldeutigen Gleichgewicht: Prinz Tamino begibt sich auf eine Prüfungsreise\, begleitet vom vogelbunten Papageno\, der für die Komik sorgt. Über diesen thronen die Königin der Nacht und Sarastro\, die derweil um Macht\, Erkenntnis und Wahrheit ringen. In Mainz ist Dominik Wilgenbus’ Inszenierung eingebettet in ein besonderes Mozart-Jahr. Denn 2026 jährt sich der Geburtstag des Komponisten zum 250. Mal\, was zu einer auffälligen Dichte an Neuinszenierungen führt. Einmal mehr erweist sich [&hellip\;] \nInterpreten: Derrick Ballard (Sarastro)\, Myungin Lee (Tamino)\, Alexandra Samouilidou (Königin der Nacht)\, Dorin Rahardja (Pamina)\, Liudmila Maytak (Papagena)\, Gabriel Rollinson (Papageno)\, Gabriel Venzago (Leitung)\, Dominik Wilgenbus (Regie) \nhttps://www.concerti.de/termine/mozart-die-zauberfloete-staatstheater-mainz-842110/
LOCATION:Staatstheater Mainz\, Gutenbergplatz 7\, 55116 Mainz
END:VEVENT
END:VCALENDAR