BEGIN:VCALENDAR
VERSION:2.0
PRODID:concerti//https://www.concerti.de
CALSCALE:GREGORIAN
BEGIN:VTIMEZONE
TZID:Europe/Berlin
X-LIC-LOCATION:Europe/Berlin
BEGIN:DAYLIGHT
TZOFFSETFROM:+0100
TZOFFSETTO:+0200
TZNAME:CEST
DTSTART:19700329T020000
RRULE:FREQ=YEARLY;BYMONTH=3;BYDAY=-1SU
END:DAYLIGHT
BEGIN:STANDARD
TZOFFSETFROM:+0200
TZOFFSETTO:+0100
TZNAME:CET
DTSTART:19701025T030000
RRULE:FREQ=YEARLY;BYMONTH=10;BYDAY=-1SU
END:STANDARD
END:VTIMEZONE
BEGIN:VEVENT
UID:a685d5e7df6843747681fc399dd8d90c
SUMMARY:Katharina Konradi (Sopran), Catriona Morison (Mezzosopran), Ammiel Bushakevitz (Klavier)
URL:https://www.concerti.de/termine/katharina-konradi-sopran-catriona-morison-mezzosopran-ammiel-bushakevitz-klavier-staatsgalerie-stuttgart-842278/
DTSTART;TZID=Europe/Berlin:20260521T193000
DTEND;TZID=Europe/Berlin:20260521T213000
DESCRIPTION:Interpreten: Katharina Konradi (Sopran)\, Catriona Morison (Mezzosopran)\, Ammiel Bushakevitz (Klavier) \nProgramm: Werke von Schumann\, Brahms\, Chausson\, Viardot u. a. \nhttps://www.concerti.de/termine/katharina-konradi-sopran-catriona-morison-mezzosopran-ammiel-bushakevitz-klavier-staatsgalerie-stuttgart-842278/
LOCATION:Staatsgalerie Stuttgart\, Konrad-Adenauer-Straße 30-32\, 70173 Stuttgart
END:VEVENT
END:VCALENDAR