BEGIN:VCALENDAR
VERSION:2.0
PRODID:concerti//https://www.concerti.de
CALSCALE:GREGORIAN
BEGIN:VTIMEZONE
TZID:Europe/Berlin
X-LIC-LOCATION:Europe/Berlin
BEGIN:DAYLIGHT
TZOFFSETFROM:+0100
TZOFFSETTO:+0200
TZNAME:CEST
DTSTART:19700329T020000
RRULE:FREQ=YEARLY;BYMONTH=3;BYDAY=-1SU
END:DAYLIGHT
BEGIN:STANDARD
TZOFFSETFROM:+0200
TZOFFSETTO:+0100
TZNAME:CET
DTSTART:19701025T030000
RRULE:FREQ=YEARLY;BYMONTH=10;BYDAY=-1SU
END:STANDARD
END:VTIMEZONE
BEGIN:VEVENT
UID:11a0792378164f24afcb85530338eca6
SUMMARY:Haydn: Die Schöpfung
URL:https://www.concerti.de/termine/haydn-die-schoepfung-843302/
DTSTART;TZID=Europe/Berlin:20260426T170000
DTEND;TZID=Europe/Berlin:20260426T190000
DESCRIPTION:Interpreten: Ulrike Kristina Härter (Sopran)\, Henning Jendritza (Tenor)\, Georg Gädker (Bass)\, Knabenchor Collegium Iuvenum Stuttgart\, Stuttgarter Kammerorchester\, Sebastian Kunz (Leitung) \nhttps://www.concerti.de/termine/haydn-die-schoepfung-843302/
LOCATION:Markuskirche\, Stuttgart
END:VEVENT
END:VCALENDAR