BEGIN:VCALENDAR
VERSION:2.0
PRODID:concerti//https://www.concerti.de
CALSCALE:GREGORIAN
BEGIN:VTIMEZONE
TZID:Europe/Berlin
X-LIC-LOCATION:Europe/Berlin
BEGIN:DAYLIGHT
TZOFFSETFROM:+0100
TZOFFSETTO:+0200
TZNAME:CEST
DTSTART:19700329T020000
RRULE:FREQ=YEARLY;BYMONTH=3;BYDAY=-1SU
END:DAYLIGHT
BEGIN:STANDARD
TZOFFSETFROM:+0200
TZOFFSETTO:+0100
TZNAME:CET
DTSTART:19701025T030000
RRULE:FREQ=YEARLY;BYMONTH=10;BYDAY=-1SU
END:STANDARD
END:VTIMEZONE
BEGIN:VEVENT
UID:da644e648355e1340a9c0e3c6585cede
SUMMARY:Bruce Liu (Klavier), City of Birmingham Symphony Orchestra, Kazuki Yamada (Leitung)
URL:https://www.concerti.de/termine/bruce-liu-klavier-city-of-birmingham-symphony-orchestra-kazuki-yamada-leitung-tonhalle-duesseldorf-691392/
DTSTART;TZID=Europe/Berlin:20260601T200000
DTEND;TZID=Europe/Berlin:20260601T220000
DESCRIPTION:Interpreten: Bruce Liu (Klavier) \nProgramm: Werke von Ligeti\, Beethoven\, Chopin\, Ravel\, Albéniz & Liszt \nhttps://www.concerti.de/termine/bruce-liu-klavier-city-of-birmingham-symphony-orchestra-kazuki-yamada-leitung-tonhalle-duesseldorf-691392/
LOCATION:Tonhalle Düsseldorf\, Ehrenhof 1\, 40479 Düsseldorf
END:VEVENT
END:VCALENDAR