BEGIN:VCALENDAR
VERSION:2.0
PRODID:concerti//https://www.concerti.de
CALSCALE:GREGORIAN
BEGIN:VTIMEZONE
TZID:Europe/Berlin
X-LIC-LOCATION:Europe/Berlin
BEGIN:DAYLIGHT
TZOFFSETFROM:+0100
TZOFFSETTO:+0200
TZNAME:CEST
DTSTART:19700329T020000
RRULE:FREQ=YEARLY;BYMONTH=3;BYDAY=-1SU
END:DAYLIGHT
BEGIN:STANDARD
TZOFFSETFROM:+0200
TZOFFSETTO:+0100
TZNAME:CET
DTSTART:19701025T030000
RRULE:FREQ=YEARLY;BYMONTH=10;BYDAY=-1SU
END:STANDARD
END:VTIMEZONE
BEGIN:VEVENT
UID:b88d2a636efe9cdf0526bc228ec9dad8
SUMMARY:Flamenco
URL:https://www.concerti.de/termine/flamenco-puro-laeiszhalle-789339/
DTSTART;TZID=Europe/Berlin:20261002T193000
DTEND;TZID=Europe/Berlin:20261002T213000
DESCRIPTION:Interpreten: Flamenco Vivo \nhttps://www.concerti.de/termine/flamenco-puro-laeiszhalle-789339/
LOCATION:Laeiszhalle\, Johannes-Brahms-Platz\, 20355 Hamburg
END:VEVENT
END:VCALENDAR