BEGIN:VCALENDAR
VERSION:2.0
PRODID:concerti//https://www.concerti.de
CALSCALE:GREGORIAN
BEGIN:VTIMEZONE
TZID:Europe/Berlin
X-LIC-LOCATION:Europe/Berlin
BEGIN:DAYLIGHT
TZOFFSETFROM:+0100
TZOFFSETTO:+0200
TZNAME:CEST
DTSTART:19700329T020000
RRULE:FREQ=YEARLY;BYMONTH=3;BYDAY=-1SU
END:DAYLIGHT
BEGIN:STANDARD
TZOFFSETFROM:+0200
TZOFFSETTO:+0100
TZNAME:CET
DTSTART:19701025T030000
RRULE:FREQ=YEARLY;BYMONTH=10;BYDAY=-1SU
END:STANDARD
END:VTIMEZONE
BEGIN:VEVENT
UID:22f2ff25ea5b0c598fd24734840e8453
SUMMARY:Das kleine Orgelkonzert
URL:https://www.concerti.de/termine/das-kleine-orgelkonzert-konzertkirche-neubrandenburg-838327/
DTSTART;TZID=Europe/Berlin:20260427T120000
DTEND;TZID=Europe/Berlin:20260427T140000
DESCRIPTION:https://www.concerti.de/termine/das-kleine-orgelkonzert-konzertkirche-neubrandenburg-838327/
LOCATION:Konzertkirche Neubrandenburg\, An der Marienkirche\, 17033 Neubrandenburg
END:VEVENT
END:VCALENDAR