BEGIN:VCALENDAR
VERSION:2.0
PRODID:concerti//https://www.concerti.de
CALSCALE:GREGORIAN
BEGIN:VTIMEZONE
TZID:Europe/Berlin
X-LIC-LOCATION:Europe/Berlin
BEGIN:DAYLIGHT
TZOFFSETFROM:+0100
TZOFFSETTO:+0200
TZNAME:CEST
DTSTART:19700329T020000
RRULE:FREQ=YEARLY;BYMONTH=3;BYDAY=-1SU
END:DAYLIGHT
BEGIN:STANDARD
TZOFFSETFROM:+0200
TZOFFSETTO:+0100
TZNAME:CET
DTSTART:19701025T030000
RRULE:FREQ=YEARLY;BYMONTH=10;BYDAY=-1SU
END:STANDARD
END:VTIMEZONE
BEGIN:VEVENT
UID:eb8f3aaf61e69702335dd50012f40e07
SUMMARY:Wataru Hisasue (Klavier) - Examenskonzert
URL:https://www.concerti.de/termine/wataru-hisasue-klavier-865236/
DTSTART;TZID=Europe/Berlin:20260519T200000
DTEND;TZID=Europe/Berlin:20260519T220000
DESCRIPTION:Interpreten: Wataru Hisasue (Klavier) \nhttps://www.concerti.de/termine/wataru-hisasue-klavier-865236/
LOCATION:UdK Berlin\, Berlin
END:VEVENT
END:VCALENDAR