BEGIN:VCALENDAR
VERSION:2.0
PRODID:concerti//https://www.concerti.de
CALSCALE:GREGORIAN
BEGIN:VTIMEZONE
TZID:Europe/Berlin
X-LIC-LOCATION:Europe/Berlin
BEGIN:DAYLIGHT
TZOFFSETFROM:+0100
TZOFFSETTO:+0200
TZNAME:CEST
DTSTART:19700329T020000
RRULE:FREQ=YEARLY;BYMONTH=3;BYDAY=-1SU
END:DAYLIGHT
BEGIN:STANDARD
TZOFFSETFROM:+0200
TZOFFSETTO:+0100
TZNAME:CET
DTSTART:19701025T030000
RRULE:FREQ=YEARLY;BYMONTH=10;BYDAY=-1SU
END:STANDARD
END:VTIMEZONE
BEGIN:VEVENT
UID:da8a4494e456652288e28b33689db1bb
SUMMARY:Ensemble Classique
URL:https://www.concerti.de/termine/ensemble-classique-865323/
DTSTART;TZID=Europe/Berlin:20260627T190000
DTEND;TZID=Europe/Berlin:20260627T210000
DESCRIPTION:Interpreten: Ensemble Classique \nProgramm: Werke von Gervaise\, Albinoni\, Mozart\, Tschaikowsky\, Bernstein u. a. \nhttps://www.concerti.de/termine/ensemble-classique-865323/
LOCATION:Schloss\, Höchstädt
END:VEVENT
END:VCALENDAR