BEGIN:VCALENDAR
VERSION:2.0
PRODID:concerti//https://www.concerti.de
CALSCALE:GREGORIAN
BEGIN:VTIMEZONE
TZID:Europe/Berlin
X-LIC-LOCATION:Europe/Berlin
BEGIN:DAYLIGHT
TZOFFSETFROM:+0100
TZOFFSETTO:+0200
TZNAME:CEST
DTSTART:19700329T020000
RRULE:FREQ=YEARLY;BYMONTH=3;BYDAY=-1SU
END:DAYLIGHT
BEGIN:STANDARD
TZOFFSETFROM:+0200
TZOFFSETTO:+0100
TZNAME:CET
DTSTART:19701025T030000
RRULE:FREQ=YEARLY;BYMONTH=10;BYDAY=-1SU
END:STANDARD
END:VTIMEZONE
BEGIN:VEVENT
UID:462a7d99c9f44cc2fa0b20ddfa393a20
SUMMARY:Julia Rinderle (Klavier)
URL:https://www.concerti.de/termine/julia-rinderle-klavier-865326/
DTSTART;TZID=Europe/Berlin:20261017T190000
DTEND;TZID=Europe/Berlin:20261017T210000
DESCRIPTION:Interpreten: Julia Rinderle (Klavier) \nProgramm: Werke von C. Schumann\, Chaminade\, Smyth\, L. Boulanger u. a. \nhttps://www.concerti.de/termine/julia-rinderle-klavier-865326/
LOCATION:Schloss\, Höchstädt
END:VEVENT
END:VCALENDAR