BEGIN:VCALENDAR
VERSION:2.0
PRODID:concerti//https://www.concerti.de
CALSCALE:GREGORIAN
BEGIN:VTIMEZONE
TZID:Europe/Berlin
X-LIC-LOCATION:Europe/Berlin
BEGIN:DAYLIGHT
TZOFFSETFROM:+0100
TZOFFSETTO:+0200
TZNAME:CEST
DTSTART:19700329T020000
RRULE:FREQ=YEARLY;BYMONTH=3;BYDAY=-1SU
END:DAYLIGHT
BEGIN:STANDARD
TZOFFSETFROM:+0200
TZOFFSETTO:+0100
TZNAME:CET
DTSTART:19701025T030000
RRULE:FREQ=YEARLY;BYMONTH=10;BYDAY=-1SU
END:STANDARD
END:VTIMEZONE
BEGIN:VEVENT
UID:9dd09a4c2f4702c6ceb78b7f2e1b1e43
SUMMARY:Zusammenhall
URL:https://www.concerti.de/termine/zusammenhall-865579/
DTSTART;TZID=Europe/Berlin:20260507T190000
DTEND;TZID=Europe/Berlin:20260507T210000
DESCRIPTION:Interpreten: Studierende der Hochschule für Musik „Hanns Eisler“ Berlin \nhttps://www.concerti.de/termine/zusammenhall-865579/
LOCATION:Neuer Marstall\, Berlin
END:VEVENT
END:VCALENDAR