BEGIN:VCALENDAR
VERSION:2.0
PRODID:concerti//https://www.concerti.de
CALSCALE:GREGORIAN
BEGIN:VTIMEZONE
TZID:Europe/Berlin
X-LIC-LOCATION:Europe/Berlin
BEGIN:DAYLIGHT
TZOFFSETFROM:+0100
TZOFFSETTO:+0200
TZNAME:CEST
DTSTART:19700329T020000
RRULE:FREQ=YEARLY;BYMONTH=3;BYDAY=-1SU
END:DAYLIGHT
BEGIN:STANDARD
TZOFFSETFROM:+0200
TZOFFSETTO:+0100
TZNAME:CET
DTSTART:19701025T030000
RRULE:FREQ=YEARLY;BYMONTH=10;BYDAY=-1SU
END:STANDARD
END:VTIMEZONE
BEGIN:VEVENT
UID:4a9fd78b69d084114071c54634cc24fa
SUMMARY:Yi-Chian Weng (Flöte), Echo Ensemble, Manuel Nawri (Leitung)
URL:https://www.concerti.de/termine/yi-chian-weng-floete-echo-ensemble-manuel-nawri-leitung-hochschule-fuer-musik-hanns-eisler-berlin-865600/
DTSTART;TZID=Europe/Berlin:20260522T190000
DTEND;TZID=Europe/Berlin:20260522T210000
DESCRIPTION:Interpreten: Yi-Chian Weng (Flöte)\, Echo Ensemble\, Manuel Nawri (Leitung) \nProgramm: Berio: Concertino\, Yun: Flötenkonzert\, Bahack: Letting Go\, Takemitsu: Rain Coming\, Ligeti: Melodien \nhttps://www.concerti.de/termine/yi-chian-weng-floete-echo-ensemble-manuel-nawri-leitung-hochschule-fuer-musik-hanns-eisler-berlin-865600/
LOCATION:Hochschule für Musik „Hanns Eisler“ Berlin\, Schlossplatz 7\, 10178 Berlin
END:VEVENT
END:VCALENDAR