BEGIN:VCALENDAR
VERSION:2.0
PRODID:concerti//https://www.concerti.de
CALSCALE:GREGORIAN
BEGIN:VTIMEZONE
TZID:Europe/Berlin
X-LIC-LOCATION:Europe/Berlin
BEGIN:DAYLIGHT
TZOFFSETFROM:+0100
TZOFFSETTO:+0200
TZNAME:CEST
DTSTART:19700329T020000
RRULE:FREQ=YEARLY;BYMONTH=3;BYDAY=-1SU
END:DAYLIGHT
BEGIN:STANDARD
TZOFFSETFROM:+0200
TZOFFSETTO:+0100
TZNAME:CET
DTSTART:19701025T030000
RRULE:FREQ=YEARLY;BYMONTH=10;BYDAY=-1SU
END:STANDARD
END:VTIMEZONE
BEGIN:VEVENT
UID:c7e1dec6966771d19369a80551c94e87
SUMMARY:Frieda Jolande Barck (Sopran), Lautten Compagney Berlin, Eva Mattes (Rezitation) - Sommerfestival Liebhabertheater Schloss Kochberg
URL:https://www.concerti.de/termine/frieda-jolande-barck-sopran-lautten-compagney-berlin-eva-mattes-rezitation-liebhabertheater-schloss-kochberg-865651/
DTSTART;TZID=Europe/Berlin:20260801T170000
DTEND;TZID=Europe/Berlin:20260801T190000
DESCRIPTION:Interpreten: Frieda Jolande Barck (Sopran)\, Lautten Compagney Berlin\, Eva Mattes (Rezitation) \nProgramm: Werke von Benda & Reichardt \nhttps://www.concerti.de/termine/frieda-jolande-barck-sopran-lautten-compagney-berlin-eva-mattes-rezitation-liebhabertheater-schloss-kochberg-865651/
LOCATION:Liebhabertheater Schloss Kochberg\, Schloss Kochberg\, 07407 Großkochberg
END:VEVENT
END:VCALENDAR