BEGIN:VCALENDAR
VERSION:2.0
PRODID:concerti//https://www.concerti.de
CALSCALE:GREGORIAN
BEGIN:VTIMEZONE
TZID:Europe/Berlin
X-LIC-LOCATION:Europe/Berlin
BEGIN:DAYLIGHT
TZOFFSETFROM:+0100
TZOFFSETTO:+0200
TZNAME:CEST
DTSTART:19700329T020000
RRULE:FREQ=YEARLY;BYMONTH=3;BYDAY=-1SU
END:DAYLIGHT
BEGIN:STANDARD
TZOFFSETFROM:+0200
TZOFFSETTO:+0100
TZNAME:CET
DTSTART:19701025T030000
RRULE:FREQ=YEARLY;BYMONTH=10;BYDAY=-1SU
END:STANDARD
END:VTIMEZONE
BEGIN:VEVENT
UID:19c1587bccb55f2dca88624c645d42ad
SUMMARY:Kayser: Scherz, List und Rache - Sommerfestival Liebhabertheater Schloss Kochberg
URL:https://www.concerti.de/termine/kayser-scherz-list-und-rache-liebhabertheater-schloss-kochberg-865634/
DTSTART;TZID=Europe/Berlin:20260912T170000
DTEND;TZID=Europe/Berlin:20260912T190000
DESCRIPTION:Interpreten: Birita Poulsen (Scapine)\, Christoph Pfaller (Scapin)\, Cornelius Uhle (Doktor)\, Lautten Compagney Berlin\, Wolfgang Katschner (Leitung)\, Nils Niemann (Regie) \nhttps://www.concerti.de/termine/kayser-scherz-list-und-rache-liebhabertheater-schloss-kochberg-865634/
LOCATION:Liebhabertheater Schloss Kochberg\, Schloss Kochberg\, 07407 Großkochberg
END:VEVENT
END:VCALENDAR