BEGIN:VCALENDAR
VERSION:2.0
PRODID:concerti//https://www.concerti.de
CALSCALE:GREGORIAN
BEGIN:VTIMEZONE
TZID:Europe/Berlin
X-LIC-LOCATION:Europe/Berlin
BEGIN:DAYLIGHT
TZOFFSETFROM:+0100
TZOFFSETTO:+0200
TZNAME:CEST
DTSTART:19700329T020000
RRULE:FREQ=YEARLY;BYMONTH=3;BYDAY=-1SU
END:DAYLIGHT
BEGIN:STANDARD
TZOFFSETFROM:+0200
TZOFFSETTO:+0100
TZNAME:CET
DTSTART:19701025T030000
RRULE:FREQ=YEARLY;BYMONTH=10;BYDAY=-1SU
END:STANDARD
END:VTIMEZONE
BEGIN:VEVENT
UID:1dd3195e2ac02172de99a6d415466eb7
SUMMARY:Bohemian Spirit
URL:https://www.concerti.de/termine/bohemian-spirit-august-everding-saal-865673/
DTSTART;TZID=Europe/Berlin:20260924T193000
DTEND;TZID=Europe/Berlin:20260924T213000
DESCRIPTION:Interpreten: Spark \nhttps://www.concerti.de/termine/bohemian-spirit-august-everding-saal-865673/
LOCATION:August Everding Saal\, Ebertstr. 1\, 82031 Grünwald
END:VEVENT
END:VCALENDAR