BEGIN:VCALENDAR
VERSION:2.0
PRODID:concerti//https://www.concerti.de
CALSCALE:GREGORIAN
BEGIN:VTIMEZONE
TZID:Europe/Berlin
X-LIC-LOCATION:Europe/Berlin
BEGIN:DAYLIGHT
TZOFFSETFROM:+0100
TZOFFSETTO:+0200
TZNAME:CEST
DTSTART:19700329T020000
RRULE:FREQ=YEARLY;BYMONTH=3;BYDAY=-1SU
END:DAYLIGHT
BEGIN:STANDARD
TZOFFSETFROM:+0200
TZOFFSETTO:+0100
TZNAME:CET
DTSTART:19701025T030000
RRULE:FREQ=YEARLY;BYMONTH=10;BYDAY=-1SU
END:STANDARD
END:VTIMEZONE
BEGIN:VEVENT
UID:725cd245aee222b7b8777f410bbed796
SUMMARY:Epic Rock Symphonie
URL:https://www.concerti.de/termine/epic-rock-symphonie-865807/
DTSTART;TZID=Europe/Berlin:20260814T203000
DTEND;TZID=Europe/Berlin:20260814T223000
DESCRIPTION:Interpreten: Sinfonisches Orchester Arbon & Band\,  Leo Gschwend (Leitung) \nProgramm: Musik von Queen\, Metallica\, Pink Floyd u. a. \nhttps://www.concerti.de/termine/epic-rock-symphonie-865807/
LOCATION:Werkhalle Eberle Roggwil\, Arbon
END:VEVENT
END:VCALENDAR