BEGIN:VCALENDAR
VERSION:2.0
PRODID:concerti//https://www.concerti.de
CALSCALE:GREGORIAN
BEGIN:VTIMEZONE
TZID:Europe/Berlin
X-LIC-LOCATION:Europe/Berlin
BEGIN:DAYLIGHT
TZOFFSETFROM:+0100
TZOFFSETTO:+0200
TZNAME:CEST
DTSTART:19700329T020000
RRULE:FREQ=YEARLY;BYMONTH=3;BYDAY=-1SU
END:DAYLIGHT
BEGIN:STANDARD
TZOFFSETFROM:+0200
TZOFFSETTO:+0100
TZNAME:CET
DTSTART:19701025T030000
RRULE:FREQ=YEARLY;BYMONTH=10;BYDAY=-1SU
END:STANDARD
END:VTIMEZONE
BEGIN:VEVENT
UID:7ea699a3a1ac5ec0a2a9c4a4436c367f
SUMMARY:Nicolai: Die lustigen Weiber von Windsor - Erlebnisoper Langenthal
URL:https://www.concerti.de/termine/nicolai-die-lustigen-weiber-von-windsor-865865/
DTSTART;TZID=Europe/Berlin:20260619T193000
DTEND;TZID=Europe/Berlin:20260619T213000
DESCRIPTION:Interpreten: Christian Tschelebiew (Sir John Falstaff)\, Rebekka Maeder (Frau Fluth)\, Wolf Latzel (Herr Fluth)\, Astrid Pfarrer (Frau Reich)\, Flurin Caduff (Herr Reich)\, Stefanie Frei (Anna Reich)\, Michael Feyfar (Fenton)\, Chor der Erlebnisoper\, Camerata 49\, Bruno Leuschner (Leitung)\, Simon Burkhalter (Regie) \nhttps://www.concerti.de/termine/nicolai-die-lustigen-weiber-von-windsor-865865/
LOCATION:Ofenhalle Porzellanfabrik\, Langenthal
END:VEVENT
END:VCALENDAR