BEGIN:VCALENDAR
VERSION:2.0
PRODID:concerti//https://www.concerti.de
CALSCALE:GREGORIAN
BEGIN:VTIMEZONE
TZID:Europe/Berlin
X-LIC-LOCATION:Europe/Berlin
BEGIN:DAYLIGHT
TZOFFSETFROM:+0100
TZOFFSETTO:+0200
TZNAME:CEST
DTSTART:19700329T020000
RRULE:FREQ=YEARLY;BYMONTH=3;BYDAY=-1SU
END:DAYLIGHT
BEGIN:STANDARD
TZOFFSETFROM:+0200
TZOFFSETTO:+0100
TZNAME:CET
DTSTART:19701025T030000
RRULE:FREQ=YEARLY;BYMONTH=10;BYDAY=-1SU
END:STANDARD
END:VTIMEZONE
BEGIN:VEVENT
UID:10be099b523e4224e3e4c1e3d5f3ae47
SUMMARY:Poulenc: L’Histoire de Babar - Festival de Musique de La Chaux-de-Fonds
URL:https://www.concerti.de/termine/poulenc-lhistoire-de-babar-salle-de-musique-la-chaux-de-fonds-866339/
DTSTART;TZID=Europe/Berlin:20260712T110000
DTEND;TZID=Europe/Berlin:20260712T130000
DESCRIPTION:Interpreten: Annie Dutoit (Klavier & Rezitation) \nhttps://www.concerti.de/termine/poulenc-lhistoire-de-babar-salle-de-musique-la-chaux-de-fonds-866339/
LOCATION:Salle de musique La Chaux-de-Fonds\, Av. Léopold-Robert 27\, 2300 La Chaux-de-Fonds
END:VEVENT
END:VCALENDAR