BEGIN:VCALENDAR
VERSION:2.0
PRODID:concerti//https://www.concerti.de
CALSCALE:GREGORIAN
BEGIN:VTIMEZONE
TZID:Europe/Berlin
X-LIC-LOCATION:Europe/Berlin
BEGIN:DAYLIGHT
TZOFFSETFROM:+0100
TZOFFSETTO:+0200
TZNAME:CEST
DTSTART:19700329T020000
RRULE:FREQ=YEARLY;BYMONTH=3;BYDAY=-1SU
END:DAYLIGHT
BEGIN:STANDARD
TZOFFSETFROM:+0200
TZOFFSETTO:+0100
TZNAME:CET
DTSTART:19701025T030000
RRULE:FREQ=YEARLY;BYMONTH=10;BYDAY=-1SU
END:STANDARD
END:VTIMEZONE
BEGIN:VEVENT
UID:01ea06b1c48ca20f7d3702bca5c53a8a
SUMMARY:Wiener Philharmoniker, Esa-Pekka Salonen (Leitung)
URL:https://www.concerti.de/termine/wiener-philharmoniker-esa-pekka-salonen-leitung-wiener-musikverein-866524/
DTSTART;TZID=Europe/Berlin:20260928T193000
DTEND;TZID=Europe/Berlin:20260928T213000
DESCRIPTION:Interpreten: Wiener Philharmoniker\, Esa-Pekka Salonen (Leitung) \nProgramm: Lutosławski: Sinfonie Nr. 4\, Debussy: La Mer\, Sibelius: Sinfonie Nr. 5 Es-Dur op. 82 \nhttps://www.concerti.de/termine/wiener-philharmoniker-esa-pekka-salonen-leitung-wiener-musikverein-866524/
LOCATION:Wiener Musikverein\, Musikvereinspl. 1\, 1010 Wien
END:VEVENT
END:VCALENDAR