BEGIN:VCALENDAR
VERSION:2.0
PRODID:concerti//https://www.concerti.de
CALSCALE:GREGORIAN
BEGIN:VTIMEZONE
TZID:Europe/Berlin
X-LIC-LOCATION:Europe/Berlin
BEGIN:DAYLIGHT
TZOFFSETFROM:+0100
TZOFFSETTO:+0200
TZNAME:CEST
DTSTART:19700329T020000
RRULE:FREQ=YEARLY;BYMONTH=3;BYDAY=-1SU
END:DAYLIGHT
BEGIN:STANDARD
TZOFFSETFROM:+0200
TZOFFSETTO:+0100
TZNAME:CET
DTSTART:19701025T030000
RRULE:FREQ=YEARLY;BYMONTH=10;BYDAY=-1SU
END:STANDARD
END:VTIMEZONE
BEGIN:VEVENT
UID:acf35aa8574981ae1a737f3015c0d61f
SUMMARY:Wiener Philharmoniker, Lahav Shani (Klavier &amp; Leitung)
URL:https://www.concerti.de/termine/wiener-philharmoniker-lahav-shani-klavier-leitung-wiener-musikverein-866552/
DTSTART;TZID=Europe/Berlin:20270117T110000
DTEND;TZID=Europe/Berlin:20270117T130000
DESCRIPTION:Interpreten: Wiener Philharmoniker\, Lahav Shani (Klavier & Leitung) \nProgramm: Prokofjew: Sinfonie Nr. 1 D-Dur op. 25 „Classique“\, Schostakowitsch: Klavierkonzert Nr. 2 F-Dur op. 102\, Tschaikowsky: Sinfonie Nr. 5 e-Moll op. 64 \nhttps://www.concerti.de/termine/wiener-philharmoniker-lahav-shani-klavier-leitung-wiener-musikverein-866552/
LOCATION:Wiener Musikverein\, Musikvereinspl. 1\, 1010 Wien
END:VEVENT
END:VCALENDAR