BEGIN:VCALENDAR
VERSION:2.0
PRODID:concerti//https://www.concerti.de
CALSCALE:GREGORIAN
BEGIN:VTIMEZONE
TZID:Europe/Berlin
X-LIC-LOCATION:Europe/Berlin
BEGIN:DAYLIGHT
TZOFFSETFROM:+0100
TZOFFSETTO:+0200
TZNAME:CEST
DTSTART:19700329T020000
RRULE:FREQ=YEARLY;BYMONTH=3;BYDAY=-1SU
END:DAYLIGHT
BEGIN:STANDARD
TZOFFSETFROM:+0200
TZOFFSETTO:+0100
TZNAME:CET
DTSTART:19701025T030000
RRULE:FREQ=YEARLY;BYMONTH=10;BYDAY=-1SU
END:STANDARD
END:VTIMEZONE
BEGIN:VEVENT
UID:7b028e14fdb12402bedd8f13c2eb5174
SUMMARY:Kirill Gerstein (Klavier), Wiener Symphoniker, Santtu-Matias Rouvali (Leitung) - Musikverein Festival: Beethovens Spazierstock, Musikverein Festival: Kult! Beethovens Sargschlüssel
URL:https://www.concerti.de/termine/kirill-gerstein-klavier-wiener-symphoniker-santtu-matias-rouvali-leitung-wiener-musikverein-685262/
DTSTART;TZID=Europe/Berlin:20270403T193000
DTEND;TZID=Europe/Berlin:20270403T213000
DESCRIPTION:Interpreten: Kirill Gerstein (Klavier)\, Wiener Symphoniker\, Santtu-Matias Rouvali (Leitung)\, Kirill Gerstein (Klavier) \nProgramm: Mendelssohn: Variations sérieuses d-Moll op. 54\, Schumann: Fantasie C-Dur op. 17\, Wagner/Liszt: Isoldes Liebestod aus „Tristan und Isolde“\, Liszt: Sonate h-Moll in einem Satz \nhttps://www.concerti.de/termine/kirill-gerstein-klavier-wiener-symphoniker-santtu-matias-rouvali-leitung-wiener-musikverein-685262/
LOCATION:Wiener Musikverein\, Musikvereinspl. 1\, 1010 Wien
END:VEVENT
END:VCALENDAR