BEGIN:VCALENDAR
VERSION:2.0
PRODID:concerti//https://www.concerti.de
CALSCALE:GREGORIAN
BEGIN:VTIMEZONE
TZID:Europe/Berlin
X-LIC-LOCATION:Europe/Berlin
BEGIN:DAYLIGHT
TZOFFSETFROM:+0100
TZOFFSETTO:+0200
TZNAME:CEST
DTSTART:19700329T020000
RRULE:FREQ=YEARLY;BYMONTH=3;BYDAY=-1SU
END:DAYLIGHT
BEGIN:STANDARD
TZOFFSETFROM:+0200
TZOFFSETTO:+0100
TZNAME:CET
DTSTART:19701025T030000
RRULE:FREQ=YEARLY;BYMONTH=10;BYDAY=-1SU
END:STANDARD
END:VTIMEZONE
BEGIN:VEVENT
UID:b34bf610888c0bbd3860bbcdc691ba0a
SUMMARY:J. Strauss (Sohn): Die Fledermaus
URL:https://www.concerti.de/termine/j-strauss-sohn-die-fledermaus-opernhaus-zuerich-720359/
DTSTART;TZID=Europe/Berlin:20260929T190000
DTEND;TZID=Europe/Berlin:20260929T210000
DESCRIPTION:Interpreten: Bo Skovhus (Gabriel von Eisenstein)\, Camilla Nylund (Rosalinde)\, Siena Licht Miller (Prinz Orlofsky)\, Johan Krogius (Alfred)\, Kathrin Zukowski (Adele)\, Ruben Drole (Frank)\, Thomas Lehman (Dr. Falke)\, Martin Zysset (Dr. Blind)\, Jonathan Bloxham (Leitung)\, Anna Bernreitner (Regie) \nhttps://www.concerti.de/termine/j-strauss-sohn-die-fledermaus-opernhaus-zuerich-720359/
LOCATION:Opernhaus Zürich\, Falkenstrasse 1\, 8008 Zürich
END:VEVENT
END:VCALENDAR